BEGIN:VCALENDAR
VERSION:2.0
METHOD:PUBLISH
PRODID::-//Obvius//NONSGML ICal//DA
BEGIN:VEVENT
UID:5031019@ign.ku.dk
DESCRIPTION:Effects of tree species and forest age on SOC sequestration an
 d persistence in afforested former cropland\n\nhttps://science.ku.dk/kalen
 der/phd-defence/q2-2026/phd-defence---ming-yu/
SUMMARY:PhD defence - Ming Yu
CATEGORIES:Ph.d.-forsvar
LOCATION:Building: Rolighedsvej 23\, Floor 1\, Room: Von Langen\, Rolighed
 svej 23\, 1958 Frederiksberg C
DTSTART:20260512T120000Z
DTSTAMP:20260512T120000Z
END:VEVENT
BEGIN:VEVENT
UID:5029945@ign.ku.dk
DESCRIPTION:Soil carbon and nitrogen storage and cycling shaped by large h
 erbivores: Evidence from temperate and Arctic ecosystems\n\nhttps://scienc
 e.ku.dk/kalender/phd-defence/q2-2026/phd-defence---joanne-alice-okeeffe/
SUMMARY:PhD defence - Joanne Alice O'Keeffe
CATEGORIES:Ph.d.-forsvar
LOCATION:Building: Baghuset\, Floor: Auditorium Floor\, Room: Auditorium A
 3-24.11\, Rolighedsvej 23\, 1958 Frederiksberg C
DTSTART:20260519T110000Z
DTSTAMP:20260519T110000Z
END:VEVENT
END:VCALENDAR
